BEGIN:VCALENDAR
PRODID:-//kirchenweb.ch gmbh//veranstaltungsausgabe v2.0//DE
VERSION:2.0
METHOD:PUBLISH
BEGIN:VEVENT
DTSTART:20261210T083000Z
DTEND:20261210T093000Z
LOCATION:Hallau\, Untere Buckstrasse 11\,
TRANSP:OPAQUE
SEQUENCE:0
UID:192197-veranstaltung@ref-sh.ch
DTSTAMP:20251209T094845Z
DESCRIPTION:Gemütlicher Morgenspaziergang ab Haus am Buck. \n\nKontakt:
  Nela Brill Züllig 079 793 58 76\n\nWeitere Infos:
  https://www.ref-sh.ch/veranstaltung/192197
SUMMARY:Morgenspaziergang
PRIORITY:5
X-MICROSOFT-CDO-IMPORTANCE:1
CLASS:PUBLIC
END:VEVENT
END:VCALENDAR
