BEGIN:VCALENDAR
PRODID:-//kirchenweb.ch gmbh//veranstaltungsausgabe v2.0//DE
VERSION:2.0
METHOD:PUBLISH
BEGIN:VEVENT
DTSTART:20270111T173000Z
DTEND:20270111T203000Z
LOCATION:Kulturraum im Rebstock Rüdlingen\, Dorfstrasse 18\, 8455
  Rüdlingen
TRANSP:OPAQUE
SEQUENCE:0
UID:192113-veranstaltung@ref-sh.ch
DTSTAMP:20260126T084744Z
DESCRIPTION:Erste Hilfe nach Unfällen zu leisten\, wird in unserer
  Gesellschaft als eine selbstverständliche Aufgabe angesehen. Doch wie
  helfen wir Menschen\, deren Lebensende gekommen ist?\n\nIn diesem Letzte
  Hilfe Kurs lernen Interessierte\, was sie für die ihnen Nahestehenden am
  Ende des Lebens tun können.\n\nWir möchten Grundwissen an die Hand
  geben und ermutigen\, sich Sterbenden zuzuwenden. Wir vermitteln in
  diesem kompakten Kurs Basiswissen\, Orientierungen und einfache
  Handgriffe.\n\nEs müssen beide Kursabende (11.1. und 18.1.2027) besucht
  werden).\n\nAnmeldung bis 4.1.2027 bei Beat Frefel\,
  https://beat.frefel@ref-sh.ch; 044 867 05 18\n\nKässeli zur Deckung der
  Unkosten.\n\nKursleitung: Brigitte Ochsner\, dipl. Pflegefachfrau und
  Beat Frefel\, Seelsorger\n\n\nKontakt: Brigitte Ochsner\, Beat Frefel\n
 \nWeitere Infos: https://www.ref-sh.ch/veranstaltung/192113
SUMMARY:Letzte Hilfe Kurs Teil 1
PRIORITY:5
X-MICROSOFT-CDO-IMPORTANCE:1
CLASS:PUBLIC
END:VEVENT
END:VCALENDAR
