BEGIN:VCALENDAR
PRODID:-//kirchenweb.ch gmbh//veranstaltungsausgabe v2.0//DE
VERSION:2.0
METHOD:PUBLISH
BEGIN:VEVENT
DTSTART:20261018T080000Z
DTEND:20261018T090000Z
LOCATION:Zwinglikirche\, Hochstrasse 202\, 8200 Schaffhausen
TRANSP:OPAQUE
SEQUENCE:0
UID:192024-veranstaltung@ref-sh.ch
DTSTAMP:20260312T083318Z
DESCRIPTION:Kontakt: Markus Sieber?\n\nWeitere Infos:
  https://www.ref-sh.ch/veranstaltung/192024
SUMMARY:Gottesdienst
PRIORITY:5
X-MICROSOFT-CDO-IMPORTANCE:1
CLASS:PUBLIC
END:VEVENT
END:VCALENDAR
