BEGIN:VCALENDAR
PRODID:-//kirchenweb.ch gmbh//veranstaltungsausgabe v2.0//DE
VERSION:2.0
METHOD:PUBLISH
BEGIN:VEVENT
DTSTART:20261004T150000Z
DTEND:20261004T160000Z
LOCATION:Zwinglikirche\, Hochstrasse 202\, 8200 Schaffhausen
TRANSP:OPAQUE
SEQUENCE:0
UID:192022-veranstaltung@ref-sh.ch
DTSTAMP:20260126T084704Z
DESCRIPTION:Ausklang an der Feuerschale\n\nKontakt: Pfr. Yves
  L'Eplattenier\n\nWeitere Infos:
  https://www.ref-sh.ch/veranstaltung/192022
SUMMARY:Nachtklang-Gottesdienst
PRIORITY:5
X-MICROSOFT-CDO-IMPORTANCE:1
CLASS:PUBLIC
END:VEVENT
END:VCALENDAR
