BEGIN:VCALENDAR
PRODID:-//kirchenweb.ch gmbh//veranstaltungsausgabe v2.0//DE
VERSION:2.0
METHOD:PUBLISH
BEGIN:VEVENT
DTSTART:20260417T160000Z
DTEND:20260417T170000Z
LOCATION:Zwinglikirche\, Hochstrasse 202\, 8200 Schaffhausen
TRANSP:OPAQUE
SEQUENCE:0
UID:192020-veranstaltung@ref-sh.ch
DTSTAMP:20260319T093849Z
DESCRIPTION:Komm\, wir machen eine Reise... in den Himmel/himmelwärts\n
 \nKontakt: Michèle Siegrist\n\nWeitere Infos:
  https://www.ref-sh.ch/veranstaltung/192020
SUMMARY:Der ANDERE Gottesdienst
PRIORITY:5
X-MICROSOFT-CDO-IMPORTANCE:1
CLASS:PUBLIC
END:VEVENT
END:VCALENDAR
