BEGIN:VCALENDAR
PRODID:-//kirchenweb.ch gmbh//veranstaltungsausgabe v2.0//DE
VERSION:2.0
METHOD:PUBLISH
BEGIN:VEVENT
DTSTART:20260110T160000Z
DTEND:20260110T170000Z
LOCATION:Reformierte Kirche Thayngen\, Kirchplatz 2\, 8240 Thayngen
TRANSP:OPAQUE
SEQUENCE:0
UID:191963-veranstaltung@ref-sh.ch
DTSTAMP:20251231T071945Z
DESCRIPTION:Kontakt: R. Roost\n\nWeitere Infos:
  https://www.ref-sh.ch/veranstaltung/191963
SUMMARY:Lobpreis
PRIORITY:5
X-MICROSOFT-CDO-IMPORTANCE:1
CLASS:PUBLIC
END:VEVENT
END:VCALENDAR
