BEGIN:VCALENDAR
PRODID:-//kirchenweb.ch gmbh//veranstaltungsausgabe v2.0//DE
VERSION:2.0
METHOD:PUBLISH
BEGIN:VEVENT
DTSTART:20260111T090000Z
DTEND:20260111T100000Z
LOCATION:Kath. Kirche Thayngen\, \,
TRANSP:OPAQUE
SEQUENCE:0
UID:191955-veranstaltung@ref-sh.ch
DTSTAMP:20260107T150429Z
DESCRIPTION:Kontakt: Jürgen Will und Boris Schlüssel\n\nWeitere Infos:
  https://www.ref-sh.ch/veranstaltung/191955
SUMMARY:Ökum. Gottesdienst
PRIORITY:5
X-MICROSOFT-CDO-IMPORTANCE:1
CLASS:PUBLIC
END:VEVENT
END:VCALENDAR
