BEGIN:VCALENDAR
PRODID:-//kirchenweb.ch gmbh//veranstaltungsausgabe v2.0//DE
VERSION:2.0
METHOD:PUBLISH
BEGIN:VEVENT
DTSTART:20260919T060000Z
DTEND:20260919T100000Z
LOCATION:Stand beim Rathausbogen\, Vordergasse\, 8200 Schaffhausen
TRANSP:OPAQUE
SEQUENCE:0
UID:191930-veranstaltung@ref-sh.ch
DTSTAMP:20251201T211556Z
DESCRIPTION:Kontakt: Doris Brodbeck\n\nWeitere Infos:
  https://www.ref-sh.ch/veranstaltung/191930
SUMMARY:Standaktion Bettagsaktion "Schaffhausen hilft"
PRIORITY:5
X-MICROSOFT-CDO-IMPORTANCE:1
CLASS:PUBLIC
END:VEVENT
END:VCALENDAR
