BEGIN:VCALENDAR
PRODID:-//kirchenweb.ch gmbh//veranstaltungsausgabe v2.0//DE
VERSION:2.0
METHOD:PUBLISH
BEGIN:VEVENT
DTSTART:20260603T100000Z
DTEND:20260603T120000Z
LOCATION:Restaurant Haumesser\, Schulstrasse 2\, 8214 Gächlingen
TRANSP:OPAQUE
SEQUENCE:0
UID:191891-veranstaltung@ref-sh.ch
DTSTAMP:20260126T084610Z
DESCRIPTION:Bei einem feinen Schweinsbraten mit Beilage und Gemüse\,
  sowie einer Vor- und Nachspeise Freunde und Nachbarn treffen – das ist
  der Braten-Treff.\nKosten für die Gäste: Fr. 21.00 (NEU ab 2026: Fr.
  23.-) inkl. Mineralwasser und Kaffee\, ohne alkoholische Getränke)\n\nAb
  13.30 Uhr wird eine Mitarbeiterin der Spitex Klettgau-Randen anwesend
  sein\, um allen\, welche dies wünschen\, Blutdruck und Blutzucker zu
  messen.\nFinanziell wird der Mittagstisch mit Beiträgen der
  Kirchgemeinde und aus dem "Müller-Hepp-Fonds" unterstützt\, der von der
  Spitex Klettgau-Randen verwaltet wird.\n\n\nKontakt: Susanne Ryser\n
 \nWeitere Infos: https://www.ref-sh.ch/veranstaltung/191891
SUMMARY:Mittagstisch (Braten-Treff)
PRIORITY:5
X-MICROSOFT-CDO-IMPORTANCE:1
CLASS:PUBLIC
END:VEVENT
END:VCALENDAR
