BEGIN:VCALENDAR
PRODID:-//kirchenweb.ch gmbh//veranstaltungsausgabe v2.0//DE
VERSION:2.0
METHOD:PUBLISH
BEGIN:VEVENT
DTSTART;VALUE=DATE:20260525
DTEND;VALUE=DATE:20260526
LOCATION:noch offen\, \,
TRANSP:OPAQUE
SEQUENCE:0
UID:191860-veranstaltung@ref-sh.ch
DTSTAMP:20251130T122353Z
DESCRIPTION:Durchfführung noch offen\n\nKontakt: Amanda Suter\n\nWeitere
  Infos: https://www.ref-sh.ch/veranstaltung/191860
SUMMARY:Cevi-Pfingstlager
PRIORITY:5
X-MICROSOFT-CDO-IMPORTANCE:1
CLASS:PUBLIC
END:VEVENT
END:VCALENDAR
