BEGIN:VCALENDAR
PRODID:-//kirchenweb.ch gmbh//veranstaltungsausgabe v2.0//DE
VERSION:2.0
METHOD:PUBLISH
BEGIN:VEVENT
DTSTART:20260502T114500Z
DTEND:20260502T145000Z
LOCATION:Spielplatz vom Kreuzgutschulhaus\, \,
TRANSP:OPAQUE
SEQUENCE:0
UID:191845-veranstaltung@ref-sh.ch
DTSTAMP:20251130T121749Z
DESCRIPTION:Kontakt: Amanda Suter\n\nWeitere Infos:
  https://www.ref-sh.ch/veranstaltung/191845
SUMMARY:Cevi-Programm
PRIORITY:5
X-MICROSOFT-CDO-IMPORTANCE:1
CLASS:PUBLIC
END:VEVENT
END:VCALENDAR
