BEGIN:VCALENDAR
PRODID:-//kirchenweb.ch gmbh//veranstaltungsausgabe v2.0//DE
VERSION:2.0
METHOD:PUBLISH
BEGIN:VEVENT
DTSTART:20260917T164500Z
DTEND:20260917T173000Z
LOCATION:Münster\, \,
TRANSP:OPAQUE
SEQUENCE:0
UID:191720-veranstaltung@ref-sh.ch
DTSTAMP:20260114T122432Z
DESCRIPTION:Abendgebet für den Frieden - Sie sind herzlich eingeladen!\n
 \nJeweils am 3. Donnerstag im Monat (ausser im Juli)\, von 18.45 bis ca.
  19.30 Uhr\,\nbeten wir für den Frieden der Welt:\nAus der Stille heraus
  hören wir auf ein Mut machendes Wort.\n\nKontakt: Susi Leu\n\nWeitere
  Infos: https://www.ref-sh.ch/veranstaltung/191720
SUMMARY:Abendgebet für den Frieden
PRIORITY:5
X-MICROSOFT-CDO-IMPORTANCE:1
CLASS:PUBLIC
END:VEVENT
END:VCALENDAR
