BEGIN:VCALENDAR
PRODID:-//kirchenweb.ch gmbh//veranstaltungsausgabe v2.0//DE
VERSION:2.0
METHOD:PUBLISH
BEGIN:VEVENT
DTSTART:20260615T080000Z
DTEND:20260615T100000Z
LOCATION:Alter Wachtposten\, Eingang Oberhallauerstrasse\, Vordergasse
  52\, 8213 Neunkirch
TRANSP:OPAQUE
SEQUENCE:0
UID:191688-veranstaltung@ref-sh.ch
DTSTAMP:20260417T082708Z
DESCRIPTION:Thema im Juni: Was macht Social Media mit unseren Kindern?\n
 \nZur Zeit wird ein Verbot von TikTok und co. für Kinder diskutiert. Wir
  fragen nach:\nWarum sind die Kanäle\, über die man Filmli und
  Nachrichten anschauen und senden kann\, für Kinder so attraktiv? Wo sind
  die Gefahren? Und was können Eltern und Grosseltern tun\, um Kinder beim
  Medienkonsum zu schützen?\nUnser Referent ist Jochim Zahn\, Gründer des
  Vereins "Zischtig". Dieser gemeinnützige Verein setzt sich dafür ein\,
  dass Kinder und Jugendliche beste Medienbildung und Prävention erfahren
  und bietet in der ganzen Deutschschweiz Workshops und Vorträge an.
  (www.zischtig.ch)\nEintritt frei\, Kollekte\n\n\n\n\nKontakt: Eva
  Baumgardt\n\nWeitere Infos: https://www.ref-sh.ch/veranstaltung/191688
SUMMARY:Spätlese - Gesprächskreis für Menschen im gereiften Alter
PRIORITY:5
X-MICROSOFT-CDO-IMPORTANCE:1
CLASS:PUBLIC
END:VEVENT
END:VCALENDAR
