BEGIN:VCALENDAR
PRODID:-//kirchenweb.ch gmbh//veranstaltungsausgabe v2.0//DE
VERSION:2.0
METHOD:PUBLISH
BEGIN:VEVENT
DTSTART:20260316T090000Z
DTEND:20260316T110000Z
LOCATION:Alter Wachtposten\, Eingang Oberhallauerstrasse\, Vordergasse
  52\, 8213 Neunkirch
TRANSP:OPAQUE
SEQUENCE:0
UID:191686-veranstaltung@ref-sh.ch
DTSTAMP:20260126T084511Z
DESCRIPTION:Thema im März:\nAlltag bei der Schaffhauser Polizei\n\nWie
  sieht ein normaler Arbeitstag einer Polizistin\, eines Polizisten bei uns
  aus?\nManuela Mändli von der SH Polizei gibt Einblicke in die
  vielfältigen Herausforderungen\, die dieser Job mit sich bringt.
  Menschenkenntnis\, überlegtes Handeln und sicheres Auftreten sind nur
  einige von den vielen "Werkzeugen"\, die dafür gebraucht werden.
 \nEintritt frei\, Kollekte am Ausgang\n\n\nKontakt: Eva Baumgardt\n
 \nWeitere Infos: https://www.ref-sh.ch/veranstaltung/191686
SUMMARY:Spätlese - Gesprächskreis für Menschen im gereiften Alter
PRIORITY:5
X-MICROSOFT-CDO-IMPORTANCE:1
CLASS:PUBLIC
END:VEVENT
END:VCALENDAR
