BEGIN:VCALENDAR
PRODID:-//kirchenweb.ch gmbh//veranstaltungsausgabe v2.0//DE
VERSION:2.0
METHOD:PUBLISH
BEGIN:VEVENT
DTSTART:20260429T073000Z
DTEND:20260429T083000Z
LOCATION:Kirchgemeindehaus\, Zentralstrasse 32\, 8212 Neuhausen
TRANSP:OPAQUE
SEQUENCE:0
UID:191640-veranstaltung@ref-sh.ch
DTSTAMP:20251125T110515Z
DESCRIPTION:Kontakt: Pfr. Matthias Koch\n\nWeitere Infos:
  https://www.ref-sh.ch/veranstaltung/191640
SUMMARY:Morgenandacht
PRIORITY:5
X-MICROSOFT-CDO-IMPORTANCE:1
CLASS:PUBLIC
END:VEVENT
END:VCALENDAR
