BEGIN:VCALENDAR
PRODID:-//kirchenweb.ch gmbh//veranstaltungsausgabe v2.0//DE
VERSION:2.0
METHOD:PUBLISH
BEGIN:VEVENT
DTSTART:20260712T070000Z
DTEND:20260712T080000Z
LOCATION:Kirche Buchthalen\, Windeggstrasse 1\, 8203 Schaffhausen
TRANSP:OPAQUE
SEQUENCE:0
UID:191601-veranstaltung@ref-sh.ch
DTSTAMP:20260326T154226Z
DESCRIPTION:Kontakt: Pfrn. Beatrice Kunz Pfeiffer\n\nWeitere Infos:
  https://www.ref-sh.ch/veranstaltung/191601
SUMMARY:Gottesdienst
PRIORITY:5
X-MICROSOFT-CDO-IMPORTANCE:1
CLASS:PUBLIC
END:VEVENT
END:VCALENDAR
