BEGIN:VCALENDAR
PRODID:-//kirchenweb.ch gmbh//veranstaltungsausgabe v2.0//DE
VERSION:2.0
METHOD:PUBLISH
BEGIN:VEVENT
DTSTART:20260912T170000Z
DTEND:20260912T180000Z
LOCATION:Münster\, Münsterplatz\, 8200 Schaffhausen
TRANSP:OPAQUE
SEQUENCE:0
UID:191574-veranstaltung@ref-sh.ch
DTSTAMP:20260128T151513Z
DESCRIPTION:Kontakt: Pfarrerin Ute Nürnberg\nAndreas Jud\n\nWeitere
  Infos: https://www.ref-sh.ch/veranstaltung/191574
SUMMARY:Soirée
PRIORITY:5
X-MICROSOFT-CDO-IMPORTANCE:1
CLASS:PUBLIC
END:VEVENT
END:VCALENDAR
