BEGIN:VCALENDAR
PRODID:-//kirchenweb.ch gmbh//veranstaltungsausgabe v2.0//DE
VERSION:2.0
METHOD:PUBLISH
BEGIN:VEVENT
DTSTART:20260522T080000Z
DTEND:20260522T090000Z
LOCATION:Ref. Kirche Beringen\, Postberg 21\, 8222 Beringen
TRANSP:OPAQUE
SEQUENCE:0
UID:191568-veranstaltung@ref-sh.ch
DTSTAMP:20251124T214150Z
DESCRIPTION:Kontakt: Brigitta Hinterberger\n\nWeitere Infos:
  https://www.ref-sh.ch/veranstaltung/191568
SUMMARY:Fiire mit de Chliine
PRIORITY:5
X-MICROSOFT-CDO-IMPORTANCE:1
CLASS:PUBLIC
END:VEVENT
END:VCALENDAR
