BEGIN:VCALENDAR
PRODID:-//kirchenweb.ch gmbh//veranstaltungsausgabe v2.0//DE
VERSION:2.0
METHOD:PUBLISH
BEGIN:VEVENT
DTSTART:20260830T101500Z
DTEND:20260830T123000Z
LOCATION:Kirche\, Kirchstrasse 8\, 8214 Gächlingen
TRANSP:OPAQUE
SEQUENCE:0
UID:191548-veranstaltung@ref-sh.ch
DTSTAMP:20251124T155856Z
DESCRIPTION:Grillziit heisst\, wir heizen spontan den Gas-Grill ein\,
  jeder nimmt sein Essen selber mit. Getränke und Geschirr stehen bereit.
  Der Platz vor der Kirche wird vorübergehend zum Grillplatz\, mit Tischen
  und Bänken.\n\n\nhttp://www.ref-gaechlingen.ch/grillziit\n\nKontakt:
  marianne.naef@ref-sh.ch\n\nWeitere Infos:
  https://www.ref-sh.ch/veranstaltung/191548
SUMMARY:Grillziit - spontan grillieren
PRIORITY:5
X-MICROSOFT-CDO-IMPORTANCE:1
CLASS:PUBLIC
END:VEVENT
END:VCALENDAR
