BEGIN:VCALENDAR
PRODID:-//kirchenweb.ch gmbh//veranstaltungsausgabe v2.0//DE
VERSION:2.0
METHOD:PUBLISH
BEGIN:VEVENT
DTSTART:20261206T103000Z
DTEND:20261206T113000Z
LOCATION:Kirche\, Kirchstrasse 8\, 8214 Gächlingen
TRANSP:OPAQUE
SEQUENCE:0
UID:191543-veranstaltung@ref-sh.ch
DTSTAMP:20251124T154834Z
DESCRIPTION:Nach der Kirchgemeindeversammlung offeriert der Kirchenstand
  einen Apéro.\n\nKontakt: marianne.naef@ref-sh.ch\n\nWeitere Infos:
  https://www.ref-sh.ch/veranstaltung/191543
SUMMARY:Apéro
PRIORITY:5
X-MICROSOFT-CDO-IMPORTANCE:1
CLASS:PUBLIC
END:VEVENT
END:VCALENDAR
