BEGIN:VCALENDAR
PRODID:-//kirchenweb.ch gmbh//veranstaltungsausgabe v2.0//DE
VERSION:2.0
METHOD:PUBLISH
BEGIN:VEVENT
DTSTART:20260607T080000Z
DTEND:20260607T090000Z
LOCATION:Kirche\, Kirchstrasse 8\, 8214 Gächlingen
TRANSP:OPAQUE
SEQUENCE:0
UID:191533-veranstaltung@ref-sh.ch
DTSTAMP:20260415T065751Z
DESCRIPTION:Ab 10 Uhr gibt es Zmorge im Bistro in der Kirche.\n\nKontakt:
  Ruth Schönenberger\n\nWeitere Infos:
  https://www.ref-sh.ch/veranstaltung/191533
SUMMARY:Kirchenwoche: Kafi-Chile: Kaffee und Zopf in der Kirche
PRIORITY:5
X-MICROSOFT-CDO-IMPORTANCE:1
CLASS:PUBLIC
END:VEVENT
END:VCALENDAR
