BEGIN:VCALENDAR
PRODID:-//kirchenweb.ch gmbh//veranstaltungsausgabe v2.0//DE
VERSION:2.0
METHOD:PUBLISH
BEGIN:VEVENT
DTSTART:20260627T150000Z
DTEND:20260627T160000Z
LOCATION:auf dem Hohberg\, \,
TRANSP:OPAQUE
SEQUENCE:0
UID:191474-veranstaltung@ref-sh.ch
DTSTAMP:20260323T125056Z
DESCRIPTION:mit Amanda Sutter\, Peter Vogelsanger und Rebekka Weber\n
 \nKontakt: Pfr. Peter Vogelsanger\n\nWeitere Infos:
  https://www.ref-sh.ch/veranstaltung/191474
SUMMARY:Cevi-Gottesdienst
PRIORITY:5
X-MICROSOFT-CDO-IMPORTANCE:1
CLASS:PUBLIC
END:VEVENT
END:VCALENDAR
