BEGIN:VCALENDAR
PRODID:-//kirchenweb.ch gmbh//veranstaltungsausgabe v2.0//DE
VERSION:2.0
METHOD:PUBLISH
BEGIN:VEVENT
DTSTART:20260615T170000Z
DTEND:20260615T200000Z
LOCATION:Burg 3\, \,
TRANSP:OPAQUE
SEQUENCE:0
UID:191473-veranstaltung@ref-sh.ch
DTSTAMP:20251121T153936Z
DESCRIPTION:Kontakt: Roland Ziegler\, Etzwilen\, TG-Synodaler
  Kirchgemeinde Burg\n\nWeitere Infos:
  https://www.ref-sh.ch/veranstaltung/191473
SUMMARY:Vorsynode TG
PRIORITY:5
X-MICROSOFT-CDO-IMPORTANCE:1
CLASS:PUBLIC
END:VEVENT
END:VCALENDAR
