BEGIN:VCALENDAR
PRODID:-//kirchenweb.ch gmbh//veranstaltungsausgabe v2.0//DE
VERSION:2.0
METHOD:PUBLISH
BEGIN:VEVENT
DTSTART:20260408T140000Z
DTEND:20260408T144500Z
LOCATION:Kirche Wilchingen\, Chilchhof 1\, 8217 Wilchingen
TRANSP:OPAQUE
SEQUENCE:0
UID:191429-veranstaltung@ref-sh.ch
DTSTAMP:20260325T083602Z
DESCRIPTION:An Ostern sagen viele Menschen in der ganzen Welt: Jesus ist
  auferstanden! Sie sagen: Jesus lebt! Obwohl er doch vorher gestorben war.
  Aber was soll das sein: Auferstanden? Im Fiire hören wir eine
  Geschichte\, die uns vielleicht hilft\, diesem Geheimnis näherzukommen.
 \n\nDas Fiire mit de Chliine ist ein Mini-Gottesdienst für die Kleinen.
  Mit einer Geschichte\, Singen\, Basteln und Gebet wird der Glaube auf
  kindgerechte Weise gefeiert. Im Anschluss sind alle zu einem Zvieri
  willkommen.\nEingeladen sind Kinder bis ins Grundschulalter\, jüngere
  kommen bitte in Begleitung Erwachsener - grössere Geschwister dürfen
  gerne dabei sein.\n\nEs freut sich auf Dich Pfr. Stefan Leistner
  Baumgardt.\n\nKontakt: Stefan Leistner Baumgardt\n\nWeitere Infos:
  https://www.ref-sh.ch/veranstaltung/191429
SUMMARY:Fiire mit de Chliine "Warum wir Ostern feiern"
PRIORITY:5
X-MICROSOFT-CDO-IMPORTANCE:1
CLASS:PUBLIC
END:VEVENT
END:VCALENDAR
