BEGIN:VCALENDAR
PRODID:-//kirchenweb.ch gmbh//veranstaltungsausgabe v2.0//DE
VERSION:2.0
METHOD:PUBLISH
BEGIN:VEVENT
DTSTART:20260818T080000Z
DTEND:20260818T091500Z
LOCATION:Mesmerhuus\, Chirchhofplatz\, 8260 Stein am Rhein
TRANSP:OPAQUE
SEQUENCE:0
UID:191375-veranstaltung@ref-sh.ch
DTSTAMP:20251118T162524Z
DESCRIPTION:Jeden 3. Dienstag im Monat trifft sich der Frauenstamm im
  Mesmerhuus. \n\nWir reden über das\, was uns gerade bewegt. Manchmal
  wird viel gelacht oder aber\nwir finden gemeinsam neue Sichtweisen auf
  ein anstehendes Problem.\nEine Anmeldung braucht es nicht. Alle sind
  herzlich willkommen zu diesem Anlass.\n\nDie jeweiligen Termine finden
  Sie im Veranstaltungskalender.\n\nKontakt: nicole.gerstlauer@ref-sh.ch\n
 \nWeitere Infos: https://www.ref-sh.ch/veranstaltung/191375
SUMMARY:Frauenstamm
PRIORITY:5
X-MICROSOFT-CDO-IMPORTANCE:1
CLASS:PUBLIC
END:VEVENT
END:VCALENDAR
