BEGIN:VCALENDAR
PRODID:-//kirchenweb.ch gmbh//veranstaltungsausgabe v2.0//DE
VERSION:2.0
METHOD:PUBLISH
BEGIN:VEVENT
DTSTART:20260424T113000Z
DTEND:20260424T143000Z
LOCATION:Kirche und Pfarrhofraum Wilchingen\, \,
TRANSP:OPAQUE
SEQUENCE:0
UID:191353-veranstaltung@ref-sh.ch
DTSTAMP:20251118T114904Z
DESCRIPTION:Kontakt: Nina Eigenheer\n\nWeitere Infos:
  https://www.ref-sh.ch/veranstaltung/191353
SUMMARY:KINDERWOCHE TOW
PRIORITY:5
X-MICROSOFT-CDO-IMPORTANCE:1
CLASS:PUBLIC
END:VEVENT
END:VCALENDAR
