BEGIN:VCALENDAR
PRODID:-//kirchenweb.ch gmbh//veranstaltungsausgabe v2.0//DE
VERSION:2.0
METHOD:PUBLISH
BEGIN:VEVENT
DTSTART:20261220T153000Z
DTEND:20261220T163000Z
LOCATION:St.Anna Kapelle\, Münsterplatz\, 8200 Schaffhausen
TRANSP:OPAQUE
SEQUENCE:0
UID:191329-veranstaltung@ref-sh.ch
DTSTAMP:20260126T084735Z
DESCRIPTION:Kontakt: Pfr. Klaus Gross\n\nWeitere Infos:
  https://www.ref-sh.ch/veranstaltung/191329
SUMMARY:4. Advent Familien Weihnacht
PRIORITY:5
X-MICROSOFT-CDO-IMPORTANCE:1
CLASS:PUBLIC
END:VEVENT
END:VCALENDAR
