BEGIN:VCALENDAR
PRODID:-//kirchenweb.ch gmbh//veranstaltungsausgabe v2.0//DE
VERSION:2.0
METHOD:PUBLISH
BEGIN:VEVENT
DTSTART:20260416T062500Z
DTEND:20260416T072500Z
LOCATION:Siblinger Randenhaus\, \, 8225 Siblingen
TRANSP:OPAQUE
SEQUENCE:0
UID:191198-veranstaltung@ref-sh.ch
DTSTAMP:20260226T110802Z
DESCRIPTION:Die Kirchgemeinden Siblingen\, Gächlingen und Neunkirch laden
  gemeinsam ein zu einem gemütlichen Zmorge im Siblinger Randenhaus.
  Miteinander an einem Tisch sitzen\, geniessen\, und Zeit haben für
  Gespräche miteinander steht im Mittelpunkt. Zwischendurch hören wir
  eine Geschichte.\n\nDer Preis für den Zmorge beträgt 25 Franken\, den
  Transport übernehmen die Kirchgemeinden.\n\nAbfahrtszeiten:\n \n08.15
  Uhr Abfahrt Neunkirch Coop-Parkplatz (Car steht ab 8.00 bereit)\n08.20
  Uhr Abfahrt in Gächlingen Gemeindehaus Parkplatz\n08.25 Uhr Abfahrt
  Siblingen Parkplatz Gemeindehaus\n08.30 Uhr Abfahrt Siblingen Brunnen
  Grabenstrasse\n \nca. 10.45 Uhr Rückfahrt ab Restaurant Randenhaus\n
 \nKontakt: andreas.werner@ref-sh.ch\n\nWeitere Infos:
  https://www.ref-sh.ch/veranstaltung/191198
SUMMARY:Zmorge uf em Rande
PRIORITY:5
X-MICROSOFT-CDO-IMPORTANCE:1
CLASS:PUBLIC
END:VEVENT
END:VCALENDAR
