BEGIN:VCALENDAR
PRODID:-//kirchenweb.ch gmbh//veranstaltungsausgabe v2.0//DE
VERSION:2.0
METHOD:PUBLISH
BEGIN:VEVENT
DTSTART;VALUE=DATE:20260424
DTEND;VALUE=DATE:20260425
LOCATION:Turnhalle Löhningen\, Mesmerhaus\, \,
TRANSP:OPAQUE
SEQUENCE:0
UID:191187-veranstaltung@ref-sh.ch
DTSTAMP:20251114T152654Z
DESCRIPTION:Kontakt: zoe.werner@ref-sh.ch\n\nWeitere Infos:
  https://www.ref-sh.ch/veranstaltung/191187
SUMMARY:Musical Tag 5
PRIORITY:5
X-MICROSOFT-CDO-IMPORTANCE:1
CLASS:PUBLIC
END:VEVENT
END:VCALENDAR
