BEGIN:VCALENDAR
PRODID:-//kirchenweb.ch gmbh//veranstaltungsausgabe v2.0//DE
VERSION:2.0
METHOD:PUBLISH
BEGIN:VEVENT
DTSTART;VALUE=DATE:20260420
DTEND;VALUE=DATE:20260421
LOCATION:Turnhalle Löhningen\, Mesmerhaus\, \,
TRANSP:OPAQUE
SEQUENCE:0
UID:191182-veranstaltung@ref-sh.ch
DTSTAMP:20251114T151912Z
DESCRIPTION:Kontakt: zoe.werner@ref-sh.ch\n\nWeitere Infos:
  https://www.ref-sh.ch/veranstaltung/191182
SUMMARY:Musical Tag 1
PRIORITY:5
X-MICROSOFT-CDO-IMPORTANCE:1
CLASS:PUBLIC
END:VEVENT
END:VCALENDAR
