BEGIN:VCALENDAR
PRODID:-//kirchenweb.ch gmbh//veranstaltungsausgabe v2.0//DE
VERSION:2.0
METHOD:PUBLISH
BEGIN:VEVENT
DTSTART:20260410T100000Z
DTEND:20260410T110000Z
LOCATION:Pfarrhofraum Wilchingen\, Zinggenstrasse 28\, 8217 Wilchingen
TRANSP:OPAQUE
SEQUENCE:0
UID:191179-veranstaltung@ref-sh.ch
DTSTAMP:20251114T163024Z
DESCRIPTION:12.00 Uhr im Pfarrhof Wilchingen\, mit Kochteam Sabrina
  Tschanz und Dorli Görner.\nMenü-Information und Anmeldung bis zum
  Mittwoch\, Tel.: 052 681 33 53.\nMonatlich: Weitere Termine folgen.\n
 \nKontakt: Dorli Görner und Sabrina Tschanz\n\nWeitere Infos:
  https://www.ref-sh.ch/veranstaltung/191179
SUMMARY:Mittagstisch
PRIORITY:5
X-MICROSOFT-CDO-IMPORTANCE:1
CLASS:PUBLIC
END:VEVENT
END:VCALENDAR
