BEGIN:VCALENDAR
PRODID:-//kirchenweb.ch gmbh//veranstaltungsausgabe v2.0//DE
VERSION:2.0
METHOD:PUBLISH
BEGIN:VEVENT
DTSTART:20260512T060000Z
DTEND:20260512T100000Z
LOCATION:Ochseschüür\, Pfrundhausgasse 3\, 8200 Schaffhausen
TRANSP:OPAQUE
SEQUENCE:0
UID:191160-veranstaltung@ref-sh.ch
DTSTAMP:20251118T082424Z
DESCRIPTION:Die http://www.ref-sh.ch/internet ist am Vormittag in der
  Ochseschüür für Sprechstunden erreichbar zu den Thema Internet\,
  elektronische Kommunikation und Online-Verwaltungswerkzeuge von
  ref-sh.ch.\nBitte machen Sie vorher einen Termin ab\, am besten tragen
  Sie sich im Formular ein: https://www.ref-sh.ch/sprechstunde\n\n\nDie
  folgenden Termine:\n\n\nKontakt: Simone Wanner\n\nWeitere Infos:
  https://www.ref-sh.ch/veranstaltung/191160
SUMMARY:Sprechstunde Internetbeauftragte
PRIORITY:5
X-MICROSOFT-CDO-IMPORTANCE:1
CLASS:PUBLIC
END:VEVENT
END:VCALENDAR
