BEGIN:VCALENDAR
PRODID:-//kirchenweb.ch gmbh//veranstaltungsausgabe v2.0//DE
VERSION:2.0
METHOD:PUBLISH
BEGIN:VEVENT
DTSTART:20261126T110000Z
DTEND:20261126T123000Z
LOCATION:Nachbar Stahlgiesserei\, zur Stahlgiesserei 15b\, 8200
  Schaffhausen
TRANSP:OPAQUE
SEQUENCE:0
UID:191091-veranstaltung@ref-sh.ch
DTSTAMP:20251113T163042Z
DESCRIPTION:informeller Austausch der Institutionen in der Stahlgiesserei
  und Umgebung\n\nKontakt: Nicole Russenberger\, Sozialdiakonie\n\nWeitere
  Infos: https://www.ref-sh.ch/veranstaltung/191091
SUMMARY:Institutionen-Zmittag
PRIORITY:5
X-MICROSOFT-CDO-IMPORTANCE:1
CLASS:PUBLIC
END:VEVENT
END:VCALENDAR
