BEGIN:VCALENDAR
PRODID:-//kirchenweb.ch gmbh//veranstaltungsausgabe v2.0//DE
VERSION:2.0
METHOD:PUBLISH
BEGIN:VEVENT
DTSTART:20261130T063000Z
DTEND:20261130T064500Z
LOCATION:St. Anna-Kapelle\, Münsterkreuzgang\,  Schaffhausen
TRANSP:OPAQUE
SEQUENCE:0
UID:191028-veranstaltung@ref-sh.ch
DTSTAMP:20251112T160143Z
DESCRIPTION:Die Morgenbesinnung vor den Kantonsratssitzungen ist offen
  für alle Interessierten.\nEingang bei der Schillerglocke im
  Münsterkreuzgang.\nKoordination: Arbeitsgemeinschaft christlicher
  Kirchen und Gemeinden im Kanton Schaffhausen AKSH\n\n\nKontakt: Roland
  Diethelm / Evang.-reformiert\n\nWeitere Infos:
  https://www.ref-sh.ch/veranstaltung/191028
SUMMARY:Ökumenische Morgenbesinnung zur Kantonsratssitzung
PRIORITY:5
X-MICROSOFT-CDO-IMPORTANCE:1
CLASS:PUBLIC
END:VEVENT
END:VCALENDAR
