BEGIN:VCALENDAR
PRODID:-//kirchenweb.ch gmbh//veranstaltungsausgabe v2.0//DE
VERSION:2.0
METHOD:PUBLISH
BEGIN:VEVENT
DTSTART:20260518T053000Z
DTEND:20260518T054500Z
LOCATION:St. Anna-Kapelle\, Münsterkreuzgang\,  Schaffhausen
TRANSP:OPAQUE
SEQUENCE:0
UID:191019-veranstaltung@ref-sh.ch
DTSTAMP:20251112T160718Z
DESCRIPTION:Die Morgenbesinnung vor den Kantonsratssitzungen ist offen
  für alle Interessierten.\nEingang bei der Schillerglocke im
  Münsterkreuzgang.\nKoordination: Arbeitsgemeinschaft christlicher
  Kirchen und Gemeinden im Kanton Schaffhausen AKSH\n\n\nKontakt: Livia
  Strauss/ Evang.-ref.\n\nWeitere Infos:
  https://www.ref-sh.ch/veranstaltung/191019
SUMMARY:Ökumenische Morgenbesinnung zur Kantonsratssitzung
PRIORITY:5
X-MICROSOFT-CDO-IMPORTANCE:1
CLASS:PUBLIC
END:VEVENT
END:VCALENDAR
