BEGIN:VCALENDAR
PRODID:-//kirchenweb.ch gmbh//veranstaltungsausgabe v2.0//DE
VERSION:2.0
METHOD:PUBLISH
BEGIN:VEVENT
DTSTART:20261130T111000Z
DTEND:20261130T113000Z
LOCATION:St.Johann\, Kirchhofplatz\, 8200 Schaffhausen
TRANSP:OPAQUE
SEQUENCE:0
UID:190977-veranstaltung@ref-sh.ch
DTSTAMP:20251112T163102Z
DESCRIPTION:Innehalten im Advent\, ein gutes Wort\, ein Gebet\, ein Lied:
  dazu lädt das ökumenische Mittagsgebet im Chor der Stadtkirche St.
  Johann ein. \n\nKontakt: Pfarrer Roland Diethelm\n\nWeitere Infos:
  https://www.ref-sh.ch/veranstaltung/190977
SUMMARY:Ökumenisches Mittagsgebet im Advent
PRIORITY:5
X-MICROSOFT-CDO-IMPORTANCE:1
CLASS:PUBLIC
END:VEVENT
END:VCALENDAR
