BEGIN:VCALENDAR
PRODID:-//kirchenweb.ch gmbh//veranstaltungsausgabe v2.0//DE
VERSION:2.0
METHOD:PUBLISH
BEGIN:VEVENT
DTSTART:20260620T120000Z
DTEND:20260620T130000Z
LOCATION:Zwinglikirche\, Hochstrasse 202\, 8200 Schaffhausen
TRANSP:OPAQUE
SEQUENCE:0
UID:190962-veranstaltung@ref-sh.ch
DTSTAMP:20260226T120418Z
DESCRIPTION:Sommerfest zum 10-jährigen Jubiläum\n\nUnser Palliative
  Café feiert dieses Jahr seinen 10. Geburtstag. Den wollen wir mit Ihnen
  feiern. Bitte merken Sie sich das Datum vor und behalten Sie den
  Nachmittag unbedingt frei.\n\nDas Festprogramm folgt.\n\n\n\nKontakt:
  Beat Frefel\n\nWeitere Infos: https://www.ref-sh.ch/veranstaltung/190962
SUMMARY:Palliative Café: Sommerfest
PRIORITY:5
X-MICROSOFT-CDO-IMPORTANCE:1
CLASS:PUBLIC
END:VEVENT
END:VCALENDAR
