BEGIN:VCALENDAR
PRODID:-//kirchenweb.ch gmbh//veranstaltungsausgabe v2.0//DE
VERSION:2.0
METHOD:PUBLISH
BEGIN:VEVENT
DTSTART:20260512T163000Z
DTEND:20260512T173000Z
LOCATION:Zwinglikirche\, Hochstrasse 202\, 8200 Schaffhausen
TRANSP:OPAQUE
SEQUENCE:0
UID:190959-veranstaltung@ref-sh.ch
DTSTAMP:20260226T120316Z
DESCRIPTION:Gast: Dr. med. Florian Strasser\n\nFatigue ist ein häufiges
  Symptom bei Palliative Care-Patient:innen und schränkt die
  Lebensqualität sehr ein. Welche Behandlungsansätze gibt es und was
  können die Angehörigen tun\, damit sich das Befinden der Betroffenen
  verbessert?\n\nFlorian Strasser ist Facharzt für medizinische Onkologie
  in Schaffhausen.\n\n\n\nKontakt: Beat Frefel\n\nWeitere Infos:
  https://www.ref-sh.ch/veranstaltung/190959
SUMMARY:Palliative Café: Fatigue in der Palliative Care
PRIORITY:5
X-MICROSOFT-CDO-IMPORTANCE:1
CLASS:PUBLIC
END:VEVENT
END:VCALENDAR
