BEGIN:VCALENDAR
PRODID:-//kirchenweb.ch gmbh//veranstaltungsausgabe v2.0//DE
VERSION:2.0
METHOD:PUBLISH
BEGIN:VEVENT
DTSTART:20261231T160000Z
DTEND:20261231T170000Z
LOCATION:Kirche Wilchingen\, Zinggenstrasse\, 8217 Wilchingen
TRANSP:OPAQUE
SEQUENCE:0
UID:190954-veranstaltung@ref-sh.ch
DTSTAMP:20260214T114507Z
DESCRIPTION:anschliessend Kirchencafé\n\nKontakt: Pfr. Stefan Leistner
  Baumgardt\n\nWeitere Infos: https://www.ref-sh.ch/veranstaltung/190954
SUMMARY:Gottesdienst
PRIORITY:5
X-MICROSOFT-CDO-IMPORTANCE:1
CLASS:PUBLIC
END:VEVENT
END:VCALENDAR
