BEGIN:VCALENDAR
PRODID:-//kirchenweb.ch gmbh//veranstaltungsausgabe v2.0//DE
VERSION:2.0
METHOD:PUBLISH
BEGIN:VEVENT
DTSTART:20261224T170000Z
DTEND:20261224T180000Z
LOCATION:Kirche Trasadingen\, Dorfstrasse 35\, 8219 Trasadingen
TRANSP:OPAQUE
SEQUENCE:0
UID:190950-veranstaltung@ref-sh.ch
DTSTAMP:20260216T130500Z
DESCRIPTION:Kontakt: Janine Thomann\n\nWeitere Infos:
  https://www.ref-sh.ch/veranstaltung/190950
SUMMARY:Gottesdienst
PRIORITY:5
X-MICROSOFT-CDO-IMPORTANCE:1
CLASS:PUBLIC
END:VEVENT
END:VCALENDAR
