BEGIN:VCALENDAR
PRODID:-//kirchenweb.ch gmbh//veranstaltungsausgabe v2.0//DE
VERSION:2.0
METHOD:PUBLISH
BEGIN:VEVENT
DTSTART:20261011T080000Z
DTEND:20261011T090000Z
LOCATION:Kirche Osterfingen\, Dorfstrasse 78\, 8218 Osterfingen
TRANSP:OPAQUE
SEQUENCE:0
UID:190937-veranstaltung@ref-sh.ch
DTSTAMP:20260219T150742Z
DESCRIPTION:anschliessend Kirchencafé\n\nKontakt: Pfr. Stefan Leistner
  Baumgardt\n\nWeitere Infos: https://www.ref-sh.ch/veranstaltung/190937
SUMMARY:Gottesdienst zum Trottenfest
PRIORITY:5
X-MICROSOFT-CDO-IMPORTANCE:1
CLASS:PUBLIC
END:VEVENT
END:VCALENDAR
