BEGIN:VCALENDAR
PRODID:-//kirchenweb.ch gmbh//veranstaltungsausgabe v2.0//DE
VERSION:2.0
METHOD:PUBLISH
BEGIN:VEVENT
DTSTART:20260927T080000Z
DTEND:20260927T090000Z
LOCATION:Kirche Wilchingen\, Chilchhof 1\, 8217 Wilchingen
TRANSP:OPAQUE
SEQUENCE:0
UID:190935-veranstaltung@ref-sh.ch
DTSTAMP:20260330T130101Z
DESCRIPTION:Kontakt: Pfr. Jürgen Will\n\nWeitere Infos:
  https://www.ref-sh.ch/veranstaltung/190935
SUMMARY:Gottesdienst zum Herbstsonntag
PRIORITY:5
X-MICROSOFT-CDO-IMPORTANCE:1
CLASS:PUBLIC
END:VEVENT
END:VCALENDAR
