BEGIN:VCALENDAR
PRODID:-//kirchenweb.ch gmbh//veranstaltungsausgabe v2.0//DE
VERSION:2.0
METHOD:PUBLISH
BEGIN:VEVENT
DTSTART:20260913T080000Z
DTEND:20260913T090000Z
LOCATION:Kirche Trasadingen\, Dorfstrasse 35\, 8219 Trasadingen
TRANSP:OPAQUE
SEQUENCE:0
UID:190933-veranstaltung@ref-sh.ch
DTSTAMP:20260330T130048Z
DESCRIPTION:anschliessend Herbstsonntag\n\nKontakt: Nadja Gasser\n
 \nWeitere Infos: https://www.ref-sh.ch/veranstaltung/190933
SUMMARY:Gottesdienst zum Herbstsonntag
PRIORITY:5
X-MICROSOFT-CDO-IMPORTANCE:1
CLASS:PUBLIC
END:VEVENT
END:VCALENDAR
