BEGIN:VCALENDAR
PRODID:-//kirchenweb.ch gmbh//veranstaltungsausgabe v2.0//DE
VERSION:2.0
METHOD:PUBLISH
BEGIN:VEVENT
DTSTART:20260531T080000Z
DTEND:20260531T090000Z
LOCATION:Kirche Trasadingen\, Dorfstrasse 35\, 8219 Trasadingen
TRANSP:OPAQUE
SEQUENCE:0
UID:190918-veranstaltung@ref-sh.ch
DTSTAMP:20260309T080912Z
DESCRIPTION:anschliessend Kirchenkaffee\n\nKontakt: Judith Schaad\n
 \nWeitere Infos: https://www.ref-sh.ch/veranstaltung/190918
SUMMARY:Gottesdienst
PRIORITY:5
X-MICROSOFT-CDO-IMPORTANCE:1
CLASS:PUBLIC
END:VEVENT
END:VCALENDAR
