BEGIN:VCALENDAR
PRODID:-//kirchenweb.ch gmbh//veranstaltungsausgabe v2.0//DE
VERSION:2.0
METHOD:PUBLISH
BEGIN:VEVENT
DTSTART:20260419T080000Z
DTEND:20260419T090000Z
LOCATION:Kirche Osterfingen\, Dorfstrasse 78\, 8218 Osterfingen
TRANSP:OPAQUE
SEQUENCE:0
UID:190912-veranstaltung@ref-sh.ch
DTSTAMP:20260418T190752Z
DESCRIPTION:Kontakt: Robert Richli\, rrichli@bluewin.ch\, 079 370 63 03\n
 \nWeitere Infos: https://www.ref-sh.ch/veranstaltung/190912
SUMMARY:Gottesdienst mit Gräberabschied
PRIORITY:5
X-MICROSOFT-CDO-IMPORTANCE:1
CLASS:PUBLIC
END:VEVENT
END:VCALENDAR
