BEGIN:VCALENDAR
PRODID:-//kirchenweb.ch gmbh//veranstaltungsausgabe v2.0//DE
VERSION:2.0
METHOD:PUBLISH
BEGIN:VEVENT
DTSTART:20260405T071500Z
DTEND:20260405T081500Z
LOCATION:Kirche Trasadingen\, Dorfstrasse 35\, 8219 Trasadingen
TRANSP:OPAQUE
SEQUENCE:0
UID:190910-veranstaltung@ref-sh.ch
DTSTAMP:20260301T144639Z
DESCRIPTION:Kontakt: Judith Schaad\n\nWeitere Infos:
  https://www.ref-sh.ch/veranstaltung/190910
SUMMARY:Gottesdienst mit Abendmahl
PRIORITY:5
X-MICROSOFT-CDO-IMPORTANCE:1
CLASS:PUBLIC
END:VEVENT
END:VCALENDAR
