BEGIN:VCALENDAR
PRODID:-//kirchenweb.ch gmbh//veranstaltungsausgabe v2.0//DE
VERSION:2.0
METHOD:PUBLISH
BEGIN:VEVENT
DTSTART:20260405T083000Z
DTEND:20260405T093000Z
LOCATION:Kirche Osterfingen\, Dorfstrasse 78\, 8218 Osterfingen
TRANSP:OPAQUE
SEQUENCE:0
UID:190909-veranstaltung@ref-sh.ch
DTSTAMP:20260401T145529Z
DESCRIPTION:anschliessend Eiertütschen\n\nKontakt: Robert Richli\,
  rrichli@bluewin.ch\, 079 370 63 03\n\nWeitere Infos:
  https://www.ref-sh.ch/veranstaltung/190909
SUMMARY:Gottesdienst mit Abendmahl
PRIORITY:5
X-MICROSOFT-CDO-IMPORTANCE:1
CLASS:PUBLIC
END:VEVENT
END:VCALENDAR
