BEGIN:VCALENDAR
PRODID:-//kirchenweb.ch gmbh//veranstaltungsausgabe v2.0//DE
VERSION:2.0
METHOD:PUBLISH
BEGIN:VEVENT
DTSTART:20260405T040000Z
DTEND:20260405T050000Z
LOCATION:Kirche Wilchingen\, Chilchhof 1\, 8217 Wilchingen
TRANSP:OPAQUE
SEQUENCE:0
UID:190908-veranstaltung@ref-sh.ch
DTSTAMP:20260323T090641Z
DESCRIPTION:Wir starten in besinnlicher Stimmung um das Osterfeuer\, wo
  die Osterkerze entzündet wird. Der Ostergottesdienst beginnt dann in der
  dunklen Kirche nur von der frisch entzündeten Kerze erhellt. Dafür
  lohnt es sich für die ganze Familie früh aufzustehen. Anschliessend zum
  Gottesdienst laden wir alle zu einem feinen Zmorgä ein. Aus guter Quelle
  wissen wir\, dass der Osterhase für Klein und Gross eine Überraschung
  in der Kirche versteckt hat. Chömed go sueche!\n\nKontakt: Simon Halter
 \n\nWeitere Infos: https://www.ref-sh.ch/veranstaltung/190908
SUMMARY:Frühgottesdienst mit Abendmahl
PRIORITY:5
X-MICROSOFT-CDO-IMPORTANCE:1
CLASS:PUBLIC
END:VEVENT
END:VCALENDAR
