BEGIN:VCALENDAR
PRODID:-//kirchenweb.ch gmbh//veranstaltungsausgabe v2.0//DE
VERSION:2.0
METHOD:PUBLISH
BEGIN:VEVENT
DTSTART:20260403T170000Z
DTEND:20260403T180000Z
LOCATION:Kirche Osterfingen\, Dorfstrasse 78\, 8218 Osterfingen
TRANSP:OPAQUE
SEQUENCE:0
UID:190907-veranstaltung@ref-sh.ch
DTSTAMP:20260401T145555Z
DESCRIPTION:anschliessend Kirchencafé\n\nKontakt: Robert Richli\,
  rrichli@bluewin.ch\, 079 370 63 03\n\nWeitere Infos:
  https://www.ref-sh.ch/veranstaltung/190907
SUMMARY:Gottesdienst mit Abendmahl
PRIORITY:5
X-MICROSOFT-CDO-IMPORTANCE:1
CLASS:PUBLIC
END:VEVENT
END:VCALENDAR
