BEGIN:VCALENDAR
PRODID:-//kirchenweb.ch gmbh//veranstaltungsausgabe v2.0//DE
VERSION:2.0
METHOD:PUBLISH
BEGIN:VEVENT
DTSTART:20260403T080000Z
DTEND:20260403T090000Z
LOCATION:Altershaamet Wilchingen\, Hofackerstrasse 30\, 8217 Wilchingen
TRANSP:OPAQUE
SEQUENCE:0
UID:190906-veranstaltung@ref-sh.ch
DTSTAMP:20260213T132807Z
DESCRIPTION:anschliessend Kirchencafé\n\nKontakt: Pfr. Stefan Leistner
  Baumgardt\n\nWeitere Infos: https://www.ref-sh.ch/veranstaltung/190906
SUMMARY:Gottesdienst mit Abendmahl
PRIORITY:5
X-MICROSOFT-CDO-IMPORTANCE:1
CLASS:PUBLIC
END:VEVENT
END:VCALENDAR
